BEGIN:VCALENDAR
VERSION:2.0
PRODID:-//eventon.com NONSGML v1.0//EN
BEGIN:VEVENT
UID:69e7a9a9a722d
DTSTAMP:20260421T184529
DTSTART:20170120T010000Z
DTEND:20170121T010000Z
TZID:UTC
LOCATION:Facultad de Medicina de Pamplona Campus Universitario\,  Plantas 1-5\,  31080 Pamplona\,  Navarra
SUMMARY:2do CURSO DE CIRUGÍA DERMATOLÓGICA PARA RESIDENTES - GECIDERM
DESCRIPTION: Directores del Curso: Dr. Pedro Redondo Bellón y Dr. Javier Vázquez Doval. Ver programa.\nhttps://aedv.es/Eventos/2do-curso-de-cirugia-dermatologica-para-residentes-geciderm/
URL:https://aedv.es/Eventos/2do-curso-de-cirugia-dermatologica-para-residentes-geciderm/
END:VEVENT
END:VCALENDAR