BEGIN:VCALENDAR
VERSION:2.0
PRODID:-//eventon.com NONSGML v1.0//EN
BEGIN:VEVENT
UID:69e9f3595198e
DTSTAMP:20260423T122425
DTSTART:20161114T110000Z
DTEND:20161118T140000Z
TZID:UTC
LOCATION:Facultad de Medicina 
SUMMARY:El Museo Olavide: la historia de la medicina en tu piel
DESCRIPTION: Descargar el cartel.\nhttps://aedv.es/Eventos/el-museo-olavide-la-historia-de-la-medicina-en-tu-piel/
URL:https://aedv.es/Eventos/el-museo-olavide-la-historia-de-la-medicina-en-tu-piel/
END:VEVENT
END:VCALENDAR