BEGIN:VCALENDAR
VERSION:2.0
PRODID:-//eventon.com NONSGML v1.0//EN
BEGIN:VEVENT
UID:69ea1c5b395c5
DTSTAMP:20260423T151923
DTSTART:20180113T104500Z
DTEND:20180113T190000Z
TZID:UTC
LOCATION:Paraninfo de la Facultad de Medicina de Barcelona Casanovas\,  143  08036 Barcelona 
SUMMARY:Reunión Grupo de E-dermatología e Imagen
DESCRIPTION: Programa GEDEI 2018 Plantilla Envío de Comunicaciones Solicitud de inscripción\nhttps://aedv.es/Eventos/reunion-grupo-de-e-dermatologia-e-imagen/
URL:https://aedv.es/Eventos/reunion-grupo-de-e-dermatologia-e-imagen/
END:VEVENT
END:VCALENDAR