BEGIN:VCALENDAR
VERSION:2.0
PRODID:-//eventon.com NONSGML v1.0//EN
BEGIN:VEVENT
UID:69e9ec1a2b845
DTSTAMP:20260423T115330
DTSTART:20230120
DTEND:20230121
TZID:Pacific/Midway
LOCATION:Novotel Madrid Center Calle de O'Donnell\,  53\,  Salamanca\,  28009 Madrid
SUMMARY:8º Congreso de Psoriasis
DESCRIPTION: Como cada año queremos comunicaros la celebración del 8º Congreso de Psoriasis\, &nbsp;que tendrá lugar del 20 al 21 de enero de 2023. Este año seguimos apostando por un Congreso Presencial + Online\,  manteniendo la filosofía de reunión abierta dirigida a aquellos interesados en la Psoriasis que busquen un completo programa[..]\nhttps://aedv.es/Eventos/8o-congreso-de-psoriasis/
URL:https://aedv.es/Eventos/8o-congreso-de-psoriasis/
END:VEVENT
END:VCALENDAR