BEGIN:VCALENDAR
VERSION:2.0
PRODID:-//eventon.com NONSGML v1.0//EN
BEGIN:VEVENT
UID:69ebb527753ad
DTSTAMP:20260424T202335
DTSTART:20240202
DTEND:20240203
TZID:Pacific/Midway
LOCATION:Marbella\,  Málaga 
SUMMARY:38º REUNIÓN DEL GRUPO ESPAÑOL DE FOTOBIOLOGÍA
DESCRIPTION: 38º REUNIÓN DEL GRUPO ESPAÑOL DE FOTOBIOLOGÍA\nhttps://aedv.es/Eventos/38o-reunion-del-grupo-espanol-de-fotobiologia/
URL:https://aedv.es/Eventos/38o-reunion-del-grupo-espanol-de-fotobiologia/
END:VEVENT
END:VCALENDAR