BEGIN:VCALENDAR
VERSION:2.0
PRODID:-//eventon.com NONSGML v1.0//EN
BEGIN:VEVENT
UID:69e89adb1529c
DTSTAMP:20260422T115435
DTSTART:20250507
DTEND:20250510
TZID:Europe/Madrid
LOCATION:FERIA VALENCIA Avda. de las ferias s/n\,  46035 Valencia 
SUMMARY:52º CONGRESO NACIONAL DE DERMATOLOGÍA Y VENEREOLOGÍA
DESCRIPTION: 52º CONGRESO NACIONAL DE DERMATOLOGÍA Y VENEREOLOGÍA\nhttps://aedv.es/Eventos/52o-congreso-nacional-de-dermatologia-y-venereologia/
URL:https://aedv.es/Eventos/52o-congreso-nacional-de-dermatologia-y-venereologia/
END:VEVENT
END:VCALENDAR