BEGIN:VCALENDAR
VERSION:2.0
PRODID:-//eventon.com NONSGML v1.0//EN
BEGIN:VEVENT
UID:69ea8502c8b34
DTSTAMP:20260423T224554
DTSTART:20151106T010000Z
DTEND:20151107T010000Z
TZID:UTC
LOCATION:Hospital Universitario de Guadalajara Calle Donante de Sangre\,  s/n\,  19002 Guadalajara
SUMMARY:41ª Reunión del Grupo Español de Dermatopatología
DESCRIPTION: Guadalajara acogerá los días 6 y 7 de noviembre de 2015 la cuadragésimo primera edición de la Reunión Anual del Grupo Español de Dermatopatología\,  tomando el relevo de la ciudad de Málaga. Será la segunda vez que la provincia castellana acoja este evento científico\,  referencia nacional para patólogos y dermatólogos\, [..]\nhttps://aedv.es/Eventos/41a-reunion-del-grupo-espanol-de-dermatopatologia/
URL:https://aedv.es/Eventos/41a-reunion-del-grupo-espanol-de-dermatopatologia/
END:VEVENT
END:VCALENDAR